BEGIN:VCALENDAR
VERSION:2.0
PRODID:-//wp-events-plugin.com//7.2.3.1//EN
BEGIN:VEVENT
UID:224@ton-an.com
DTSTART;TZID=Europe/Berlin:20260326T193000
DTEND;TZID=Europe/Berlin:20260326T220000
DTSTAMP:20260329T130010Z
URL:https://ton-an.com/events/kiezkonzert-no-10-meine-frau-und-ich-alice-h
 ills/
SUMMARY:Kiezkonzert No. 10 // Meine Frau und Ich &amp\; Alice Hills
DESCRIPTION:Gemeinschaft statt Kommerz\nIn Kooperation mit Support Local Mu
 sic Berlin lädt die Galerie KungerKiez monatlich zu einem akustischen Abe
 nd mit talentierten Singer-/Songwriter*innen aus der Nachbarschaft und Ber
 lin ein.\n19:30 Uhr: Einlass &amp\; Öffnung der Bar\n20 Uhr: "Meine Frau
  und Ich"\n21 Uhr: Alice Hills\nDer Eintritt ist frei. Spenden für die Mu
 siker*innen sind herzlich willkommen.\nAlice Hills ist in eine in Berlin g
 eborene Künstlerin und fasziniert seit ihrem 16. Lebensjahr Publikum welt
 weit. Als Vollzeitmusikerin und Headlinerin sammelt sie seit über 16 Jahr
 en umfassende Bühnenerfahrung und verfeinert ihr Handwerk durch Street-Pe
 rformance – Demut\, Publikumskontakt und mitreißendes Engagement präge
 n ihre Live-Shows. Mit ihrer Erfahrung hat sie die dynamische Straßenmusi
 k-Szene Berlins maßgeblich mitgeprägt. Ihre Musik verbindet prägnanten 
 Pop\, Rock und Folk\, veredelt durch Soul- und Jazz-Einflüsse. Die einzig
 artige Stimme von Alice sorgt dafür\, dass Songs tief berühren und authe
 ntisch klingen – sie schafft eindrucksvolle Momente\, die das Publikum n
 achhaltig bewegen.\nMeine Frau und Ich ist ein Duo bestehend aus dem Musik
 er-Ehepaar Marion und Jens-Olaf. Beide treten mit Gitarre und Gesang auf\,
  wobei Marion zudem auf der Violine begleitet und Jens-Olaf mit seiner Uku
 lele. Die beiden genießen ihr Hobby zum gemeinsamen Musizieren schon viel
 e Jahre. Angefangen haben sie mit kleinen Auftritten und musikalischen Umr
 ahmungen bei Familienfeiern. Darauf folgen Konzerte bei Dorffesten und Bet
 riebsfeiern\, die ihr Repertoire deutlich vergrößerten. Ihre Songauswahl
  ist ein bunter Covermix aus allem\, was ihnen gefällt. Dabei bewegen sie
  sich zwischen Rock\, Pop\, Blues und Country sowohl in englischer als auc
 h in deutscher Sprache.\nDie Konzertreihe findet monatlich mit wechselnden
  Musiker*innen statt. Die nächsten Termine sind:\nDonnerstag\, 23. April\
 nDonnerstag\, 21. Mai\nSonntag\, 21. Juni (Fete de la musique)
ATTACH;FMTTYPE=image/jpeg:https://ton-an.com/wp-content/uploads/67Oz2WtTZ6
 zKxlGRPnC4_260326webkiezkonzertquer.jpg
CATEGORIES:Pop
LOCATION:Galerie Kungerkiez\, Karl-Kunger-Str. 15\, Berlin\, Berlin\, 12435
 \, Deutschland
GEO:52.490752;13.447053
X-APPLE-STRUCTURED-LOCATION;VALUE=URI;X-ADDRESS=Karl-Kunger-Str. 15\, Berli
 n\, Berlin\, 12435\, Deutschland;X-APPLE-RADIUS=100;X-TITLE=Galerie Kunger
 kiez:geo:52.490752,13.447053
END:VEVENT
BEGIN:VTIMEZONE
TZID:Europe/Berlin
X-LIC-LOCATION:Europe/Berlin
BEGIN:STANDARD
DTSTART:20251026T020000
TZOFFSETFROM:+0200
TZOFFSETTO:+0100
TZNAME:CET
END:STANDARD
END:VTIMEZONE
END:VCALENDAR