BEGIN:VCALENDAR
VERSION:2.0
PRODID:-//wp-events-plugin.com//7.2.3.1//EN
BEGIN:VEVENT
UID:182@ton-an.com
DTSTART;TZID=Europe/Berlin:20260122T193000
DTEND;TZID=Europe/Berlin:20260122T220000
DTSTAMP:20260127T200233Z
URL:https://ton-an.com/events/kiezkonzert-no-8-paulapaula-vianne/
SUMMARY:Kiezkonzert No. 8 // PaulaPaula &amp\; Vianne
DESCRIPTION:Gemeinschaft statt Kommerz\n\nIn Kooperation mit Support Local 
 Music Berlin lädt die Galerie KungerKiez monatlich zu einem akustischen A
 bend mit talentierten Singer-/Songwriter*innen aus der Nachbarschaft und B
 erlin ein\n\n19:00 Uhr: Einlass &amp\; Öffnung der Bar\n\n19:30 Uhr: Via
 nne\n\n20:30 Uhr: PaulaPaula\n\nEintritt ist frei\, wobei sich die lokalen
  Musiker*innen über eine Spende freuen.\n\nPaulaPaula liebt es in ihren T
 exten den Finger in die wunden Punkte unserer aufgeklärten Gesellschaft z
 u legen.\n\nAuf deutsch\, englisch und französisch besingt sie alles\, wa
 s noch nicht stimmt\, wo wir noch nicht angekommen sind\, was noch nicht f
 rei ist. Der nie fehlende Humor und der unerschütterliche Glaube an die M
 öglichkeit von friedlicherem\, zwischenmenschlichen Umgang schimmert durc
 h alle Risse und lässt einen trotz heftiger Themen mit einem verwirrt erf
 rischten Lächeln aus ihren Konzerten schweben.\n\nVianne ist Singer-Songw
 riterin und produziert ihre Songs komplett selbst. In ihrer Musik verbinde
 t sie sanfte\, melancholische Melodien mit persönlichem Storytelling und 
 schafft dabei ehrlichen\, folkigen Indie-Pop. Mit Loop-Station und Gitarre
  schafft die Multi-Instrumentalistin live eine intime One-Woman-Show mit i
 ntrospektiven Songs\, die echte Einblicke in ihre Gefühlswelt geben.\n\nM
 onatlich stattfindendes Event. Nächste Termine:\n\nDonnerstag\, 19. Febru
 ar\n\nDonnerstag\, 26. März\n\nDonnerstag\, 23. April\n\nDonnerstag\, 21.
  Mai\n\nSonntag\, 21. Juni (Fete de la musique)
CATEGORIES:Pop
END:VEVENT
BEGIN:VTIMEZONE
TZID:Europe/Berlin
X-LIC-LOCATION:Europe/Berlin
BEGIN:STANDARD
DTSTART:20251026T020000
TZOFFSETFROM:+0200
TZOFFSETTO:+0100
TZNAME:CET
END:STANDARD
END:VTIMEZONE
END:VCALENDAR