BEGIN:VCALENDAR
VERSION:2.0
PRODID:-//wp-events-plugin.com//7.2.3.1//EN
BEGIN:VEVENT
UID:183@ton-an.com
DTSTART;TZID=Europe/Berlin:20260219T193000
DTEND;TZID=Europe/Berlin:20260219T220000
DTSTAMP:20260130T081422Z
URL:https://ton-an.com/events/kiezkonzert-no-9-johanna-fischer-feathered-f
 ire/
SUMMARY:Kiezkonzert No. 9 // Johanna Fischer &amp\; Feathered Fire
DESCRIPTION:Gemeinschaft statt Kommerz\nIn Kooperation mit Support Local Mu
 sic Berlin lädt die Galerie KungerKiez monatlich zu einem akustischen Abe
 nd mit talentierten Singer-/Songwriter*innen aus der Nachbarschaft und Ber
 lin ein.\n19:30 Uhr: Einlass &amp\; Öffnung der Bar\n20 Uhr: Johanna Fis
 cher\n21 Uhr: Feathered Fire\nDer Eintritt ist frei. Spenden für die Musi
 ker*innen sind herzlich willkommen.\nJohanna Fischer ist Singer-Songwriter
 in aus Berlin und schreibt seit 2010 eigene Songs. Ihre Musik ist vor alle
 m ein Weg\, sich selbst besser zu verstehen\, Gefühle zu sortieren und he
 rauszufinden\, was ihr wirklich wichtig ist und wer sie ist. Das Schreiben
  und Singen hilft ihr\, sich künstlerisch und menschlich auf einer sehr t
 iefen Ebene zu spüren. 2021 erfüllte sie sich einen Traum und nahm ein g
 anzes Album mit ihren eigenen Liedern im Studio auf. In den letzten Jahren
  wurde sie Mutter\, was ihr Leben neu geprägt und verändert hat. Jetzt\,
  nach 4 Jahren Mutterschaft\, fühlt es sich für sie an\, wieder mehr Rau
 m für Musik zu schaffen und neue Songs nach außen zu bringen. Ihre aktue
 llen Lieder entstehen dem Bedürfnis\, ehrlich zu bleiben\, mit sich selbs
 t und mit der Welt.\nFeathered Fire ist ein Projekt der facettenreichen K
 ünstlerin Seraphina Taylor. Ihre Musik bewegt sich über Genregrenzen hin
 weg und schöpft Inspiration aus den Werken von Sister Rosetta Tharpe\, Ba
 ch\, Joan Jett und dem Electric Light Orchestra – und spiegelt dabei den
  Geist von Fiona Apple\, Annie Lennox und Tori Amos wider. Durch ihren eno
 rmen Stimmumfang schafft sie es in ihren Songs federleichte Zartheit mit p
 unkiger Stärke zu verbinden. Sie improvisiert komplette Tracks live\, leb
 t von Kollaborationen und entzündet Bühnen mit einer Intensität\, die e
 iner Flamme gleicht. Live begleitet wird sie dabei von Harry Hudson Taylor
  an Gitarre\, Keys und Backing Vocals.\nDie Konzertreihe findet monatlich 
 mit wechselnden Musiker*innen statt. Die nächsten Termine sind:\nDonnerst
 ag\, 26. März\nDonnerstag\, 23. April\nDonnerstag\, 21. Mai\nSonntag\, 21
 . Juni (Fete de la musique)
CATEGORIES:Pop,Rock
LOCATION:Galerie Kungerkiez\, Karl-Kunger-Str. 15\, Berlin\, Berlin\, 12435
 \, Deutschland
GEO:52.490752;13.447053
X-APPLE-STRUCTURED-LOCATION;VALUE=URI;X-ADDRESS=Karl-Kunger-Str. 15\, Berli
 n\, Berlin\, 12435\, Deutschland;X-APPLE-RADIUS=100;X-TITLE=Galerie Kunger
 kiez:geo:52.490752,13.447053
END:VEVENT
BEGIN:VTIMEZONE
TZID:Europe/Berlin
X-LIC-LOCATION:Europe/Berlin
BEGIN:STANDARD
DTSTART:20251026T020000
TZOFFSETFROM:+0200
TZOFFSETTO:+0100
TZNAME:CET
END:STANDARD
END:VTIMEZONE
END:VCALENDAR