BEGIN:VCALENDAR
VERSION:2.0
PRODID:-//wp-events-plugin.com//7.2.3.1//EN
BEGIN:VEVENT
UID:274@ton-an.com
DTSTART;TZID=Europe/Berlin:20260419T191500
DTEND;TZID=Europe/Berlin:20261031T191500
DTSTAMP:20260419T141613Z
URL:https://ton-an.com/events/queenz-of-piano-live/
SUMMARY:Queenz of Piano live
DESCRIPTION:Queenz of Piano: Klavierkosmos explodiert live! Stellen Sie sic
 h vor: Zwei Virtuosinnen zaubern aus schwarzen Flügeln einen Feuersturm a
 us Klassik und Pop – die Queenz of Piano entfesseln mit ihrer "Piano Cos
 mos Tour 2026" ein Spektakel\, das Grenzen sprengt. Anne Folger und Jennif
 er Rüth\, die Meisterinnen des Crossover-Duos\, mischen Bach mit Beats\, 
 Beethoven mit Basslines und Humor mit Höchstgeschwindigkeit.\n&nbsp\;\n\n
 \n\n&nbsp\;\n\n&nbsp\;\n\n&nbsp\;\n\n&nbsp\;\n\n&nbsp\;\n\nQueenz of Piano
  Konzerttermine:\n19.07.2026 um 12:00\; Bad Vilbel\n01.10.2026 um 20:30\, 
 Dresden\, Parkhotel\n02.10.2026 um 20:00\, Rostock\, Stadthalle\n04.10.202
 6 um 19:30\, Neubrandenburg\, Konzertkirche\n08.10.2026 um 19:30\, Erfurt\
 , Alte Oper\n09.10.2026 um 20:00\, Magdeburg\, Altes Theater am Jerichower
  Platz\n10.10.2026 um 20:00\, Leipzig\, Kupfersaal\n11.10.2026 um 19:00\, 
 Halle\, Steintor Variete\n16.10.2026 um 20:00\, Diepholz\, Theater der Sta
 dt\n17.10.2026 um 20:00\, Cuxhaven\, Kugelbake-Halle\n18.10.2026 um 19:30\
 , Hannover\, Pavillon Hannover\n25.10.2026 um 20:00\, Flensburg\, Deutsche
 s Haus\n27.10.2026 um 20:00\, Flensburg\, Deutsches Haus\n31.10.2026 um 20
 :00\, Düsseldorf\, Capitol Theater\nAuf der Bühne sitzen Queenz of Piano
  nicht nur am Klavier\, sie tanzen darauf\, malträtieren Saiten mit Kämm
 en und Milchaufschäumern – es knallt\, zwitschert\, rockt. Diese Show v
 erbindet E-Musik-Eleganz mit U-Musik-Power\, Hochkultur mit Club-Vibes. We
 r einmal miterlebt\, wie sie "Flight of the Bumblebee" zu einem Rave mutie
 ren lassen oder Queen-Hits neu erfinden\, ist süchtig. Tickets schwinden 
 wie Schnee in der Sonne – erleben Sie den ultimativen Klavierrausch mit 
 den Damen von Queenz of Piano !\n\nhttps://www.youtube.com/watch?v=vxHRlyS
 M9Hc\n\n&nbsp\;\nDie Queenz of Piano - Revolution\nDie Queenz of Piano\, A
 nne Folger und Jennifer Rüth\, sind mehr als Pianistinnen – sie sind Re
 volutionärinnen des Klangs. Beide klassisch ausgebildet\, mit Abschlüsse
 n an renommierten Konservatorien\, haben sie die starre Welt der Notenblä
 tter geknackt und zu einem bunten Kosmos ausgelassenem Entertainment gemac
 ht. Anne\, die temperamentvolle Blondine mit unerschöpflicher Energie\, u
 nd Jennifer\, die präzise Denkerin mit feinem Humor\, ergänzen sich perf
 ekt: Wo Anne stampft und lacht\, webt Jennifer filigrane Läufe. Gemeinsam
  haben sie Millionen erreicht – Alben wie "TastaTour" und "Piano Cosmos"
  toppten Charts\, Videos gehen viral. Ihre Shows sind Events: Publikum sin
 gt mit\, tanzt in Sitzen\, applaudiert stehend.\n&nbsp\;\n\n&nbsp\;
ATTACH;FMTTYPE=image/jpeg:https://ton-an.com/wp-content/uploads/hqdefault-
 30.jpg
CATEGORIES:Aktiv,Comedy,Klassik
END:VEVENT
BEGIN:VTIMEZONE
TZID:Europe/Berlin
X-LIC-LOCATION:Europe/Berlin
BEGIN:DAYLIGHT
DTSTART:20260329T030000
TZOFFSETFROM:+0100
TZOFFSETTO:+0200
TZNAME:CEST
END:DAYLIGHT
BEGIN:STANDARD
DTSTART:20261025T020000
TZOFFSETFROM:+0200
TZOFFSETTO:+0100
TZNAME:CET
END:STANDARD
END:VTIMEZONE
END:VCALENDAR